BEGIN:VCALENDAR
VERSION:2.0
PRODID:-//DRK Ortsverein Laichingen - ECPv6.15.11//NONSGML v1.0//EN
CALSCALE:GREGORIAN
METHOD:PUBLISH
X-ORIGINAL-URL:https://drk-laichingen.de
X-WR-CALDESC:Veranstaltungen für DRK Ortsverein Laichingen
REFRESH-INTERVAL;VALUE=DURATION:PT1H
X-Robots-Tag:noindex
X-PUBLISHED-TTL:PT1H
BEGIN:VTIMEZONE
TZID:Europe/Berlin
BEGIN:DAYLIGHT
TZOFFSETFROM:+0100
TZOFFSETTO:+0200
TZNAME:CEST
DTSTART:20240331T010000
END:DAYLIGHT
BEGIN:STANDARD
TZOFFSETFROM:+0200
TZOFFSETTO:+0100
TZNAME:CET
DTSTART:20241027T010000
END:STANDARD
BEGIN:DAYLIGHT
TZOFFSETFROM:+0100
TZOFFSETTO:+0200
TZNAME:CEST
DTSTART:20250330T010000
END:DAYLIGHT
BEGIN:STANDARD
TZOFFSETFROM:+0200
TZOFFSETTO:+0100
TZNAME:CET
DTSTART:20251026T010000
END:STANDARD
BEGIN:DAYLIGHT
TZOFFSETFROM:+0100
TZOFFSETTO:+0200
TZNAME:CEST
DTSTART:20260329T010000
END:DAYLIGHT
BEGIN:STANDARD
TZOFFSETFROM:+0200
TZOFFSETTO:+0100
TZNAME:CET
DTSTART:20261025T010000
END:STANDARD
END:VTIMEZONE
BEGIN:VEVENT
DTSTART;TZID=Europe/Berlin:20250604T200000
DTEND;TZID=Europe/Berlin:20250604T220000
DTSTAMP:20260425T170021
CREATED:20250411T212509Z
LAST-MODIFIED:20250411T212509Z
UID:1281-1749067200-1749074400@drk-laichingen.de
SUMMARY:Übungsabend
DESCRIPTION:Thema: Störungen des Bewusstseins/Atmung
URL:https://drk-laichingen.de/event/uebungsabend-56/
LOCATION:Rettungswache Laichingen\, Uhlandstraße 12\, Laichingen\, 89150\, Deutschland
CATEGORIES:Dienstabend
END:VEVENT
BEGIN:VEVENT
DTSTART;TZID=Europe/Berlin:20250618T200000
DTEND;TZID=Europe/Berlin:20250618T220000
DTSTAMP:20260425T170021
CREATED:20250411T212611Z
LAST-MODIFIED:20250411T212611Z
UID:1283-1750276800-1750284000@drk-laichingen.de
SUMMARY:Übungsabend
DESCRIPTION:Thema: Aufgabe des Monats
URL:https://drk-laichingen.de/event/uebungsabend-57/
LOCATION:Rettungswache Laichingen\, Uhlandstraße 12\, Laichingen\, 89150\, Deutschland
CATEGORIES:Dienstabend
END:VEVENT
BEGIN:VEVENT
DTSTART;TZID=Europe/Berlin:20250624T143000
DTEND;TZID=Europe/Berlin:20250624T193000
DTSTAMP:20260425T170021
CREATED:20250105T180523Z
LAST-MODIFIED:20250105T180523Z
UID:1203-1750775400-1750793400@drk-laichingen.de
SUMMARY:Blutspende
DESCRIPTION:Den Link zur Terminreservierung finden Sie hier.
URL:https://drk-laichingen.de/event/blutspende-17/
LOCATION:Daniel-Schwenkmezger-Halle\, Beim Käppele 6\, Laichingen\, 89150\, Deutschland
CATEGORIES:Blutspende
END:VEVENT
BEGIN:VEVENT
DTSTART;TZID=Europe/Berlin:20250625T143000
DTEND;TZID=Europe/Berlin:20250625T193000
DTSTAMP:20260425T170021
CREATED:20250105T180601Z
LAST-MODIFIED:20250105T180601Z
UID:1205-1750861800-1750879800@drk-laichingen.de
SUMMARY:Blutspende
DESCRIPTION:Den Link zur Terminreservierung finden Sie hier.
URL:https://drk-laichingen.de/event/blutspende-18/
LOCATION:Daniel-Schwenkmezger-Halle\, Beim Käppele 6\, Laichingen\, 89150\, Deutschland
CATEGORIES:Blutspende
END:VEVENT
END:VCALENDAR